BEGIN:VCALENDAR
VERSION:2.0
PRODID:-//SHRC - ECPv6.15.20//NONSGML v1.0//EN
CALSCALE:GREGORIAN
METHOD:PUBLISH
X-ORIGINAL-URL:https://ridesnowshoehighlands.com
X-WR-CALDESC:Events for SHRC
REFRESH-INTERVAL;VALUE=DURATION:PT1H
X-Robots-Tag:noindex
X-PUBLISHED-TTL:PT1H
BEGIN:VTIMEZONE
TZID:America/New_York
BEGIN:DAYLIGHT
TZOFFSETFROM:-0500
TZOFFSETTO:-0400
TZNAME:EDT
DTSTART:20250309T070000
END:DAYLIGHT
BEGIN:STANDARD
TZOFFSETFROM:-0400
TZOFFSETTO:-0500
TZNAME:EST
DTSTART:20251102T060000
END:STANDARD
BEGIN:DAYLIGHT
TZOFFSETFROM:-0500
TZOFFSETTO:-0400
TZNAME:EDT
DTSTART:20260308T070000
END:DAYLIGHT
BEGIN:STANDARD
TZOFFSETFROM:-0400
TZOFFSETTO:-0500
TZNAME:EST
DTSTART:20261101T060000
END:STANDARD
BEGIN:DAYLIGHT
TZOFFSETFROM:-0500
TZOFFSETTO:-0400
TZNAME:EDT
DTSTART:20270314T070000
END:DAYLIGHT
BEGIN:STANDARD
TZOFFSETFROM:-0400
TZOFFSETTO:-0500
TZNAME:EST
DTSTART:20271107T060000
END:STANDARD
END:VTIMEZONE
BEGIN:VEVENT
DTSTART;TZID=America/New_York:20260425T080000
DTEND;TZID=America/New_York:20260425T163000
DTSTAMP:20260420T052725
CREATED:20260203T155622Z
LAST-MODIFIED:20260203T160656Z
UID:2458-1777104000-1777134600@ridesnowshoehighlands.com
SUMMARY:Great Greenbrier River Race
DESCRIPTION:Attention all adventurers! Are you ready to test your skills on land\, river\, and bike? This is a triathlon on the Greenbrier River Trail and the Greenbrier River with a 3 mile run\, 4 mile kayak\, and 10 mile bike ride. The race can be run as a solo or team entry. The race starts and finishes in Marlinton and ALL proceeds will go to the Greenbrier River Trail.
URL:https://ridesnowshoehighlands.com/event/great-greenbrier-river-race/
LOCATION:Greenbrier River Trail State Park\, Marlinton\, WV\, 24954\, United States
END:VEVENT
END:VCALENDAR