BEGIN:VCALENDAR
VERSION:2.0
PRODID:-//SHRC - ECPv6.15.20//NONSGML v1.0//EN
CALSCALE:GREGORIAN
METHOD:PUBLISH
X-ORIGINAL-URL:https://ridesnowshoehighlands.com
X-WR-CALDESC:Events for SHRC
REFRESH-INTERVAL;VALUE=DURATION:PT1H
X-Robots-Tag:noindex
X-PUBLISHED-TTL:PT1H
BEGIN:VTIMEZONE
TZID:America/New_York
BEGIN:DAYLIGHT
TZOFFSETFROM:-0500
TZOFFSETTO:-0400
TZNAME:EDT
DTSTART:20250309T070000
END:DAYLIGHT
BEGIN:STANDARD
TZOFFSETFROM:-0400
TZOFFSETTO:-0500
TZNAME:EST
DTSTART:20251102T060000
END:STANDARD
BEGIN:DAYLIGHT
TZOFFSETFROM:-0500
TZOFFSETTO:-0400
TZNAME:EDT
DTSTART:20260308T070000
END:DAYLIGHT
BEGIN:STANDARD
TZOFFSETFROM:-0400
TZOFFSETTO:-0500
TZNAME:EST
DTSTART:20261101T060000
END:STANDARD
BEGIN:DAYLIGHT
TZOFFSETFROM:-0500
TZOFFSETTO:-0400
TZNAME:EDT
DTSTART:20270314T070000
END:DAYLIGHT
BEGIN:STANDARD
TZOFFSETFROM:-0400
TZOFFSETTO:-0500
TZNAME:EST
DTSTART:20271107T060000
END:STANDARD
END:VTIMEZONE
BEGIN:VEVENT
DTSTART;VALUE=DATE:20260228
DTEND;VALUE=DATE:20260302
DTSTAMP:20260420T081749
CREATED:20260203T153958Z
LAST-MODIFIED:20260203T153958Z
UID:2452-1772236800-1772409599@ridesnowshoehighlands.com
SUMMARY:Darn Tough Banked Slalom
DESCRIPTION:Prove your mettle and claim your rank in your ski & snowboarding posse with a timed race down a dynamic Banked Slalom with berms\, turns\, jumps and rollers on the infamous Spruce Run.
URL:https://ridesnowshoehighlands.com/event/darn-tough-banked-slalom/
LOCATION:Snowshoe Mountain Resort\, 10 Snowshoe Dr.\, Snowshoe\, WV\, 24934
ORGANIZER;CN="Snowshoe Mountain Resort":MAILTO:info@snowshoemtn.com
END:VEVENT
BEGIN:VEVENT
DTSTART;VALUE=DATE:20260313
DTEND;VALUE=DATE:20260315
DTSTAMP:20260420T081749
CREATED:20260203T154559Z
LAST-MODIFIED:20260203T154559Z
UID:2454-1773360000-1773532799@ridesnowshoehighlands.com
SUMMARY:Spring Fling & Pond Skim
DESCRIPTION:The true sign that spring is on the way the annual Snowshoe pond skim. Come for the costumes and wipeouts\, stay for the live music and good vibes.
URL:https://ridesnowshoehighlands.com/event/spring-fling-pond-skim/
LOCATION:Snowshoe Mountain Resort\, 10 Snowshoe Dr.\, Snowshoe\, WV\, 24934
ORGANIZER;CN="Snowshoe Mountain Resort":MAILTO:info@snowshoemtn.com
END:VEVENT
BEGIN:VEVENT
DTSTART;VALUE=DATE:20260322
DTEND;VALUE=DATE:20260323
DTSTAMP:20260420T081749
CREATED:20260203T154951Z
LAST-MODIFIED:20260203T154951Z
UID:2456-1774137600-1774223999@ridesnowshoehighlands.com
SUMMARY:West Virginia Ski Free Day
DESCRIPTION:You’re from West Virginia?!? Bring proof of West Virginia residency and we’ll let ya get one more ski day in for free. \n*STATE OR GOVERNMENT ISSUED PHOTO ID’S ARE THE ONLY ACCEPTABLE FORMS FOR PROOF OF WV RESIDENCY
URL:https://ridesnowshoehighlands.com/event/west-virginia-ski-free-day/
LOCATION:Snowshoe Mountain Resort\, 10 Snowshoe Dr.\, Snowshoe\, WV\, 24934
ORGANIZER;CN="Snowshoe Mountain Resort":MAILTO:info@snowshoemtn.com
END:VEVENT
END:VCALENDAR